BEGIN:VCALENDAR
VERSION:2.0
PRODID:-//eventon.com NONSGML v1.0//EN
BEGIN:VEVENT
UID:69e5eb0f8619b
DTSTAMP:20260420T085959
DTSTART:20160514
DTEND:20160514
TZID:UTC
LOCATION:Sumrall Baptist Church Sumrall\,  MS
SUMMARY:Private Class
DESCRIPTION: Private Class\nhttp://trupointtactical.com/events/private-class-sumrall-baptist-may-14-2016/
URL:http://trupointtactical.com/events/private-class-sumrall-baptist-may-14-2016/
END:VEVENT
END:VCALENDAR