BEGIN:VCALENDAR
VERSION:2.0
PRODID:-//eventon.com NONSGML v1.0//EN
BEGIN:VEVENT
UID:69e754080fda4
DTSTAMP:20260421T104008
DTSTART:20160528
DTEND:20160528
TZID:UTC
LOCATION:TruPoint Tactical Range 459 Old Hwy 35 S\,  Sandy Hook\,  MS 39478
SUMMARY:Tactical Handgun - Level 2
DESCRIPTION: So you own a firearm\,  but do you know how to use it? Learn the secrets to winning a gunfight along with advanced firearm handling techniques that will increase both skill and confidence. To qualify for this class\,  you must have completed an Tactical Handgun\,  Level 1 course.\nhttp://trupointtactical.com/events/tactical-handgun-level-2-may-28-2016/
URL:http://trupointtactical.com/events/tactical-handgun-level-2-may-28-2016/
END:VEVENT
END:VCALENDAR